BEGIN:VCALENDAR
VERSION:2.0
PRODID:icalendar-ruby
CALSCALE:GREGORIAN
METHOD:PUBLISH
BEGIN:VTIMEZONE
TZID:Australia/Brisbane
BEGIN:STANDARD
DTSTART:19920301T020000
TZOFFSETFROM:+1100
TZOFFSETTO:+1000
TZNAME:AEST
END:STANDARD
END:VTIMEZONE
BEGIN:VEVENT
DTSTAMP:20260421T090107Z
UID:inspection_3004799
DTSTART;TZID=Australia/Brisbane:20260426T120000
DTEND;TZID=Australia/Brisbane:20260426T123000
CLASS:PUBLIC
CREATED:20260420T123107
DESCRIPTION: 
LAST-MODIFIED:20260420T123107
LOCATION:1309 / 59 MERON STREET\, SOUTHPORT QLD 4215\, Australia
SUMMARY:1309 / 59 MERON STREET\,  Inspection
URL;VALUE=URI:http://www.republikproperty.com.au/
END:VEVENT
END:VCALENDAR
